BEGIN:VCALENDAR
VERSION:2.0
PRODID:agrarverlag//Forstzeitung//DE
BEGIN:VEVENT
UID:20250212T051157Z-3933538969927513883@www.forstzeitung.at
DTSTAMP:20250212T051157Z
DTSTART:20250821T125300Z
DTEND:20250824T125300Z
SUMMARY:Forstmesse
LOCATION:Luzern / Schweiz
DESCRIPTION:Link zur Veranstaltung

END:VEVENT
END:VCALENDAR
